BEGIN:VCALENDAR
VERSION:2.0
PRODID:-//RKK Therwil//NONSGML kigkonsult.se iCalcreator 2.41.92//
CALSCALE:GREGORIAN
METHOD:PUBLISH
UID:66383737-3731-4666-b532-356433613839
X-WR-CALNAME:iCagenda
X-WR-CALDESC:Event Management Extension for Joomla!
X-WR-RELCALID:3E26604A-50F4-4449-8B3E-E4F4932D05B5
X-WR-TIMEZONE:Europe/Zurich
BEGIN:VTIMEZONE
TZID:Europe/Zurich
TZUNTIL:20261025T010000Z
BEGIN:STANDARD
TZNAME:CET
DTSTART:20241027T030000
TZOFFSETFROM:+0200
TZOFFSETTO:+0100
RDATE:20251026T030000
END:STANDARD
BEGIN:DAYLIGHT
TZNAME:CEST
DTSTART:20240331T020000
TZOFFSETFROM:+0100
TZOFFSETTO:+0200
RDATE:20250330T020000
RDATE:20260329T020000
END:DAYLIGHT
END:VTIMEZONE
BEGIN:VEVENT
UID:61366335-3563-4866-a239-626261626263
DTSTAMP:20260421T222831Z
CATEGORIES:RKK Therwil
CLASS:PUBLIC
DESCRIPTION;ALTREP="CID:<FFFF__=0ABBE548DFE235B58f9e8a93d@coffeebean.com>":
 S'Vogellisi\, Donna Clara\, Gilberte de Courgenay\, Mariandl: Wir singen b
 ekannte Lieder und Schlager. Stephan Wottreng begleitet uns auf seinem Sch
 wyzerörgeli mit Bildschirm-Präsentation. Am Donnerstag\, 7. November im Pf
 arreiheim um 14.30 Uhr. Anschliessend gibt es ein feines Zvieri und Kaffee
  oder Tee. Falls Sie einen Fahrdienst benötigen\, dann zögern Sie nicht si
 ch zu melden. Corinne André und Team
DTSTART:20241107T133000Z
DTEND:20241107T160000Z
GEO:00;0
LOCATION:
ORGANIZER:
SEQUENCE:1
SUMMARY:'S' Margritli und anderi Sugar Babys' - Singen bei grau & schlau.
TRANSP:OPAQUE
URL:https://rkk-therwil.ch/aktuelles/archiv/212-s-margritli-und-anderi-suga
 r-babys-singen-bei-grau-schlau?layout=vcal
END:VEVENT
END:VCALENDAR
