BEGIN:VCALENDAR
VERSION:2.0
PRODID:-//RKK Therwil//NONSGML kigkonsult.se iCalcreator 2.41.92//
CALSCALE:GREGORIAN
METHOD:PUBLISH
UID:63636431-6166-4130-b833-366266353963
X-WR-CALNAME:iCagenda
X-WR-CALDESC:Event Management Extension for Joomla!
X-WR-RELCALID:3E26604A-50F4-4449-8B3E-E4F4932D05B5
X-WR-TIMEZONE:Europe/Zurich
BEGIN:VTIMEZONE
TZID:Europe/Zurich
TZUNTIL:20261025T010000Z
BEGIN:STANDARD
TZNAME:CET
DTSTART:20241027T030000
TZOFFSETFROM:+0200
TZOFFSETTO:+0100
RDATE:20251026T030000
END:STANDARD
BEGIN:DAYLIGHT
TZNAME:CEST
DTSTART:20240331T020000
TZOFFSETFROM:+0100
TZOFFSETTO:+0200
RDATE:20250330T020000
RDATE:20260329T020000
END:DAYLIGHT
END:VTIMEZONE
BEGIN:VEVENT
UID:63336661-3037-4436-a238-326132623531
DTSTAMP:20260422T032018Z
CATEGORIES:RKK Therwil
CLASS:PUBLIC
DESCRIPTION;ALTREP="CID:<FFFF__=0ABBE548DFE235B58f9e8a93d@coffeebean.com>":
 Am 29. Oktober von 10-11 Uhr treffen wir uns zum Austausch über „die Zeit“
 . Wir hören anderen Menschen zu\, wenn sie über ihre Lebensgeschichten spr
 echen. Kommen Sie ins BEZ in Biel-Benken und teilen Sie Ihre Gedanken mit 
 anderen Interessierten. Jeder und jede ist willkommen in gemütlicher Runde
  bei Kaffee oder Tee mit Gipfeli.\nAuskünfte gibt gerne Corinne André 079 
 332 23 10\n&nbsp\;
DTSTART:20241029T090000Z
DTEND:20241029T100000Z
GEO:00;0
LOCATION:
ORGANIZER:
SEQUENCE:1
SUMMARY:Philokaffi: Die Zeit
TRANSP:OPAQUE
URL:https://rkk-therwil.ch/aktuelles/archiv/210-philokaffi-die-zeit?layout=
 vcal
END:VEVENT
END:VCALENDAR
