BEGIN:VCALENDAR
VERSION:2.0
PRODID:-//RKK Therwil//NONSGML kigkonsult.se iCalcreator 2.41.92//
CALSCALE:GREGORIAN
METHOD:PUBLISH
UID:36623130-3130-4764-a234-653939326338
X-WR-CALNAME:iCagenda
X-WR-CALDESC:Event Management Extension for Joomla!
X-WR-RELCALID:3E26604A-50F4-4449-8B3E-E4F4932D05B5
X-WR-TIMEZONE:Europe/Zurich
BEGIN:VTIMEZONE
TZID:Europe/Zurich
TZUNTIL:20261025T010000Z
BEGIN:STANDARD
TZNAME:CET
DTSTART:20241027T030000
TZOFFSETFROM:+0200
TZOFFSETTO:+0100
RDATE:20251026T030000
END:STANDARD
BEGIN:DAYLIGHT
TZNAME:CEST
DTSTART:20240331T020000
TZOFFSETFROM:+0100
TZOFFSETTO:+0200
RDATE:20250330T020000
RDATE:20260329T020000
END:DAYLIGHT
END:VTIMEZONE
BEGIN:VEVENT
UID:33636337-3838-4265-b435-343638313935
DTSTAMP:20260421T221558Z
CATEGORIES:RKK Therwil
CLASS:PUBLIC
DESCRIPTION;ALTREP="CID:<FFFF__=0ABBE548DFE235B58f9e8a93d@coffeebean.com>":
 Wir laden Sie ein zur Kirchgemeindeversammlung am Donnerstag\, 28. Novembe
 r\, um 19 Uhr in das Pfarreiheim Therwil. Traktanden:\n1. Protokoll der Ki
 rchgemeindeversammlung vom 27.06.2024\n2. Voranschlag 2025\, Entscheid übe
 r Erhöhung Steuerfuss\n3. Gesamterneuerungswahl des Kirchgemeinderates\n4.
  Wahl Protokollführung\n5. Gesamterneuerungswahl der Synodalen\n6. Gesamte
 rneuerungswahl der Rechnungsprüfungskommission\n7. Informationen des Kirch
 gemeinderates\n8. Aus Pfarrei und Seelsorge\n9. Verschiedenes\nUnterlagen 
 zu den Traktanden 1 und 2 sind im Internet ab 10. November unter www.rkk-t
 herwil.ch/dokumente zugänglich oder können im Sekretariat angefordert werd
 en. Im Anschluss an die Versammlung lädt der Kirchenrat zum Apéro ein.
DTSTART:20241128T180000Z
DTEND:20241128T203000Z
GEO:00;0
LOCATION:
ORGANIZER:
SEQUENCE:1
SUMMARY:Kirchgemeindeversammlung
TRANSP:OPAQUE
URL:https://rkk-therwil.ch/aktuelles/archiv/207-kirchgemeindeversammlung-2?
 layout=vcal
END:VEVENT
END:VCALENDAR
