BEGIN:VCALENDAR
VERSION:2.0
PRODID:-//RKK Therwil//NONSGML kigkonsult.se iCalcreator 2.41.92//
CALSCALE:GREGORIAN
METHOD:PUBLISH
UID:31303333-3835-4638-a237-386463323234
X-WR-CALNAME:iCagenda
X-WR-CALDESC:Event Management Extension for Joomla!
X-WR-RELCALID:3E26604A-50F4-4449-8B3E-E4F4932D05B5
X-WR-TIMEZONE:Europe/Zurich
BEGIN:VTIMEZONE
TZID:Europe/Zurich
TZUNTIL:20261025T010000Z
BEGIN:STANDARD
TZNAME:CET
DTSTART:20231029T030000
TZOFFSETFROM:+0200
TZOFFSETTO:+0100
RDATE:20241027T030000
RDATE:20251026T030000
END:STANDARD
BEGIN:DAYLIGHT
TZNAME:CEST
DTSTART:20240331T020000
TZOFFSETFROM:+0100
TZOFFSETTO:+0200
RDATE:20250330T020000
RDATE:20260329T020000
END:DAYLIGHT
END:VTIMEZONE
BEGIN:VEVENT
UID:38356664-6134-4864-a162-356161306163
DTSTAMP:20260421T221628Z
CATEGORIES:RKK Therwil
CLASS:PUBLIC
DESCRIPTION;ALTREP="CID:<FFFF__=0ABBE548DFE235B58f9e8a93d@coffeebean.com>":
 Seit im September 2023 erste Ergebnisse zur Missbrauchsstudie der Katholis
 chen Kirche Schweiz vorgelegt wurden\, sind über 100 Personen aus unserer 
 Kirchgemeinde ausgetreten. Die finanziellen Konsequenzen zwingen uns nun d
 azu\, die Personalkosten zu reduzieren. Gleichzeitig sehen wir Erfolge bei
  neuen pastoralen Projekten. Am Donnerstag\, den 24. Oktober möchten wir u
 m 20 Uhr im Pfarreiheim in Therwil mit allen interessierten Angehörigen un
 serer Kirchgemeinde den Austausch suchen: Wohin soll die Reise gehen? Was 
 ist uns als Pfarrei für die Zukunft wichtig? Der Anlass dauert 90 Minuten\
 , nach einer Einführung vom Seelsorgeteam ist viel Raum für Diskussionen u
 nd Austausch vorgesehen. Sind Sie dabei? Sie helfen uns bei der Organisati
 on\, wenn Sie sich im Sekretariat dafür anmelden. Danke.\nJutta Achhammer\
 , Philippe Moosbrugger\, Corinne André sowie Ralf und Elke Kreiselmeyer
DTSTART:20241024T180000Z
DTEND:20241024T194500Z
GEO:00;0
LOCATION:
ORGANIZER:
SEQUENCE:1
SUMMARY:Pfarrei St. Stephan: Wohin soll die Reise gehen? - Öffentlicher Aus
 tausch
TRANSP:OPAQUE
URL:https://rkk-therwil.ch/aktuelles/archiv/206-pfarrei-st-stephan-wohin-so
 ll-die-reise-gehen-oeffentlicher-austausch?layout=vcal
END:VEVENT
END:VCALENDAR
