BEGIN:VCALENDAR
VERSION:2.0
PRODID:-//RKK Therwil//NONSGML kigkonsult.se iCalcreator 2.41.92//
CALSCALE:GREGORIAN
METHOD:PUBLISH
UID:37633937-6435-4162-a135-646466373333
X-WR-CALNAME:iCagenda
X-WR-CALDESC:Event Management Extension for Joomla!
X-WR-RELCALID:3E26604A-50F4-4449-8B3E-E4F4932D05B5
X-WR-TIMEZONE:Europe/Zurich
BEGIN:VTIMEZONE
TZID:Europe/Zurich
TZUNTIL:20261025T010000Z
BEGIN:STANDARD
TZNAME:CET
DTSTART:20241027T030000
TZOFFSETFROM:+0200
TZOFFSETTO:+0100
RDATE:20251026T030000
END:STANDARD
BEGIN:DAYLIGHT
TZNAME:CEST
DTSTART:20240331T020000
TZOFFSETFROM:+0100
TZOFFSETTO:+0200
RDATE:20250330T020000
RDATE:20260329T020000
END:DAYLIGHT
END:VTIMEZONE
BEGIN:VEVENT
UID:39356634-3536-4535-b263-663833373539
DTSTAMP:20260422T021248Z
CATEGORIES:RKK Therwil
CLASS:PUBLIC
DESCRIPTION;ALTREP="CID:<FFFF__=0ABBE548DFE235B58f9e8a93d@coffeebean.com>":
 \nDer Zoo Basel fasziniert seit seiner Eröffnung im Jahr 1874 das Publikum
 . Er regt dazu an\, über die Natur nachzudenken und einen Beitrag zu ihrem
  Schutz zu leisten. «Tembea: Elefanten in Bewegung» – bei dieser Führung a
 m Dienstag\, den 29. Oktober\, erfahren wir viel Wissenswertes rund um die
  Elefanten.\nDie Führung beginnt um 14 Uhr und dauert eine Stunde. Treffpu
 nkt 13 Uhr\, Therwil Zentrum\, bitte Billette vorab lösen. Die Kosten für 
 die Führung betragen CHF 20.- Der Zolli Eintritt muss separat und auf eige
 ne Kosten gelöst werden. Wir bitten um die verbindliche Anmeldung bis Frei
 tag\, den 18. Oktober.\n061 721 11 66 oder sekretariat@rkk-therwil.ch\nWol
 li Usinger und Niggi Kümmerli
DTSTART:20241029T120000Z
DTEND:20241029T163000Z
GEO:00;0
LOCATION:
ORGANIZER:
SEQUENCE:1
SUMMARY:Wir besuchen den Basler Zolli und geniessen eine Führung bei den El
 efanten.
TRANSP:OPAQUE
URL:https://rkk-therwil.ch/aktuelles/archiv/205-wir-besuchen-den-basler-zol
 li-und-geniessen-eine-fuehrung-bei-den-elefanten?layout=vcal
END:VEVENT
END:VCALENDAR
