BEGIN:VCALENDAR
VERSION:2.0
PRODID:-//RKK Therwil//NONSGML kigkonsult.se iCalcreator 2.41.92//
CALSCALE:GREGORIAN
METHOD:PUBLISH
UID:32616239-3839-4538-a664-633061396665
X-WR-CALNAME:iCagenda
X-WR-CALDESC:Event Management Extension for Joomla!
X-WR-RELCALID:3E26604A-50F4-4449-8B3E-E4F4932D05B5
X-WR-TIMEZONE:Europe/Zurich
BEGIN:VTIMEZONE
TZID:Europe/Zurich
TZUNTIL:20261025T010000Z
BEGIN:STANDARD
TZNAME:CET
DTSTART:20231029T030000
TZOFFSETFROM:+0200
TZOFFSETTO:+0100
RDATE:20241027T030000
RDATE:20251026T030000
END:STANDARD
BEGIN:DAYLIGHT
TZNAME:CEST
DTSTART:20240331T020000
TZOFFSETFROM:+0100
TZOFFSETTO:+0200
RDATE:20250330T020000
RDATE:20260329T020000
END:DAYLIGHT
END:VTIMEZONE
BEGIN:VEVENT
UID:39356639-3463-4231-b362-346364363833
DTSTAMP:20260421T235739Z
CATEGORIES:RKK Therwil
CLASS:PUBLIC
DESCRIPTION;ALTREP="CID:<FFFF__=0ABBE548DFE235B58f9e8a93d@coffeebean.com>":
 Wanderung vom Mittwoch\, 9. Oktober. Mit Tram\, Zug und Bus fahren wir zur
  Hinteregg Sissach\, Therwil Zentrum ab 8.05 Uhr. Wir wandern durch den Wa
 ld zur Rickenbacher Höhe und über den Staufenhof hinunter nach Maisprach. 
 Dort werden wir im Restaurant Kloster unser wohlverdientes Mittagessen gen
 iessen. Wanderzeit ca. 2 ½ Stunden. U-Abo oder Tageskarte. Wanderleitung:
 \nFranek und Doris Sitek 079 303 67 66
DTSTART:20241009T060500Z
DTEND:20241009T133000Z
GEO:00;0
LOCATION:
ORGANIZER:
SEQUENCE:1
SUMMARY:Wandergruppe «fit und zwäg»
TRANSP:OPAQUE
URL:https://rkk-therwil.ch/aktuelles/archiv/204-wandergruppe-fit-und-zwaeg-
 11?layout=vcal
END:VEVENT
END:VCALENDAR
