BEGIN:VCALENDAR
VERSION:2.0
PRODID:-//RKK Therwil//NONSGML kigkonsult.se iCalcreator 2.41.92//
CALSCALE:GREGORIAN
METHOD:PUBLISH
UID:35366438-3436-4334-b562-373434646138
X-WR-CALNAME:iCagenda
X-WR-CALDESC:Event Management Extension for Joomla!
X-WR-RELCALID:3E26604A-50F4-4449-8B3E-E4F4932D05B5
X-WR-TIMEZONE:Europe/Zurich
BEGIN:VTIMEZONE
TZID:Europe/Zurich
TZUNTIL:20261025T010000Z
BEGIN:STANDARD
TZNAME:CET
DTSTART:20231029T030000
TZOFFSETFROM:+0200
TZOFFSETTO:+0100
RDATE:20241027T030000
RDATE:20251026T030000
END:STANDARD
BEGIN:DAYLIGHT
TZNAME:CEST
DTSTART:20240331T020000
TZOFFSETFROM:+0100
TZOFFSETTO:+0200
RDATE:20250330T020000
RDATE:20260329T020000
END:DAYLIGHT
END:VTIMEZONE
BEGIN:VEVENT
UID:64303463-3262-4538-b365-343538323761
DTSTAMP:20260421T221603Z
CATEGORIES:RKK Therwil
CLASS:PUBLIC
DESCRIPTION;ALTREP="CID:<FFFF__=0ABBE548DFE235B58f9e8a93d@coffeebean.com>":
 Nur wenige Wochen hat es gedauert und schon kann man auf den naturnahen Wi
 esen beim Pfarrheim und im Pfarrgarten wieder bunte Schmetterlinge entdeck
 en und - wenn man sich der Wiese nähert - fliegt eine ganze Schar kleiner 
 Vögel auf. Es bewegt mich\, wie rasch und wie gerne sich die Natur regener
 iert\, wenn man ihr dafür den Boden bereitet. Ist das nicht ein Grund zu f
 eiern? Am Sonntag\, 6. Oktober\, um 10 Uhr sagen wir im Erntedankgottesdie
 nst Danke für all die guten Gaben der Natur.\nElke Kreiselmeyer
DTSTART:20241006T080000Z
DTEND:20241006T091500Z
GEO:00;0
LOCATION:
ORGANIZER:
SEQUENCE:1
SUMMARY:Regeneration - Gottesdienst zum Erntedank
TRANSP:OPAQUE
URL:https://rkk-therwil.ch/aktuelles/archiv/202-regeneration-gottesdienst-z
 um-erntedank?layout=vcal
END:VEVENT
END:VCALENDAR
