BEGIN:VCALENDAR
VERSION:2.0
PRODID:-//RKK Therwil//NONSGML kigkonsult.se iCalcreator 2.41.92//
CALSCALE:GREGORIAN
METHOD:PUBLISH
UID:36313431-6230-4238-b739-343130396535
X-WR-CALNAME:iCagenda
X-WR-CALDESC:Event Management Extension for Joomla!
X-WR-RELCALID:3E26604A-50F4-4449-8B3E-E4F4932D05B5
X-WR-TIMEZONE:Europe/Zurich
BEGIN:VTIMEZONE
TZID:Europe/Zurich
TZUNTIL:20261025T010000Z
BEGIN:STANDARD
TZNAME:CET
DTSTART:20231029T030000
TZOFFSETFROM:+0200
TZOFFSETTO:+0100
RDATE:20241027T030000
RDATE:20251026T030000
END:STANDARD
BEGIN:DAYLIGHT
TZNAME:CEST
DTSTART:20240331T020000
TZOFFSETFROM:+0100
TZOFFSETTO:+0200
RDATE:20250330T020000
RDATE:20260329T020000
END:DAYLIGHT
END:VTIMEZONE
BEGIN:VEVENT
UID:31396431-3132-4639-b134-323139346531
DTSTAMP:20260421T221604Z
CATEGORIES:RKK Therwil
CLASS:PUBLIC
DESCRIPTION;ALTREP="CID:<FFFF__=0ABBE548DFE235B58f9e8a93d@coffeebean.com>":
 Ein Klavier\, Kerzenlicht\, Noten und Gedichtbände sowie ein Musiker und e
 in Theologe\, die ihr Publikum mitnehmen auf eine musikalisch-poetische Re
 ise: Am Samstag\, den 19. Oktober findet um 19.30 Uhr wieder ein musikalis
 ch-poetischer Abend mit Ralf Kreiselmeyer und Ralph Stelzenmüller im Pfarr
 eiheim St. Stephan am Hinterkirchweg 31 in Therwil statt.\nZwischen den Tö
 nen und den Worten öffnet sich\, wenn es glückt\, ein bisschen Himmel für 
 uns alle. Wir freuen uns auf Sie.\nRalph Stelzenmüller und Ralf Kreiselmey
 er
DTSTART:20241019T173000Z
DTEND:20241019T200000Z
GEO:00;0
LOCATION:
ORGANIZER:
SEQUENCE:1
SUMMARY:Musikalisch-poetischer Abend mit Ralph und Ralf
TRANSP:OPAQUE
URL:https://rkk-therwil.ch/aktuelles/archiv/200-musikalisch-poetischer-aben
 d-mit-ralph-und-ralf?layout=vcal
END:VEVENT
END:VCALENDAR
