BEGIN:VCALENDAR
VERSION:2.0
PRODID:-//RKK Therwil//NONSGML kigkonsult.se iCalcreator 2.41.92//
CALSCALE:GREGORIAN
METHOD:PUBLISH
UID:64343262-3438-4564-b830-663837316138
X-WR-CALNAME:iCagenda
X-WR-CALDESC:Event Management Extension for Joomla!
X-WR-RELCALID:3E26604A-50F4-4449-8B3E-E4F4932D05B5
X-WR-TIMEZONE:Europe/Zurich
BEGIN:VTIMEZONE
TZID:Europe/Zurich
TZUNTIL:20250330T010000Z
BEGIN:STANDARD
TZNAME:CET
DTSTART:20221030T030000
TZOFFSETFROM:+0200
TZOFFSETTO:+0100
RDATE:20231029T030000
RDATE:20241027T030000
END:STANDARD
BEGIN:DAYLIGHT
TZNAME:CEST
DTSTART:20230326T020000
TZOFFSETFROM:+0100
TZOFFSETTO:+0200
RDATE:20240331T020000
END:DAYLIGHT
END:VTIMEZONE
BEGIN:VEVENT
UID:65363631-6336-4264-b336-333363656538
DTSTAMP:20260422T032901Z
CATEGORIES:RKK Therwil
CLASS:PUBLIC
DESCRIPTION;ALTREP="CID:<FFFF__=0ABBE548DFE235B58f9e8a93d@coffeebean.com>":
 Von Friedhof zu Friedhof vorbei an Gestank\, Katastrophen und Seuchen wird
  vor allem das Leben und Sterben am Spalenhügel in den Vordergrund gerückt
 . Ein etwas morbider\, doch nicht minder interessanter Rundgang!\nWir folg
 en unserem Stadtführer Mike Stoll auf den Spuren des emsigen ‘Sänsemaa‘ du
 rch das lebensfrohe Basel\, denn wo das Leben ist\, ist auch er\, der Tod!
 &nbsp\; Wir treffen uns am Mittwoch den 27. September um 13.15h bei der Tr
 amhaltestelle Therwil Zentrum. Bitte 2 Zonen-Ticket lösen. Dauer ca. 4 Stu
 nden\, Kosten ca. CHF 40.-- (abhängig von der Anzahl Anmeldungen). Zahlbar
  am Ausflugstag bei Wolli. Anmeldung bis Mittwoch\, 13. September per Tele
 fon 061 721 11 66 oder per Mail: sekretariat@rkk-therwil.ch. Wir freuen un
 s!\nWolli Usinger und Niggi Kümmerli
DTSTART:20230927T111500Z
DTEND:20230927T151500Z
GEO:00;0
LOCATION:
ORGANIZER:
SEQUENCE:1
SUMMARY:Der schwarze Tod und der Basler Daig - Ausflug mit Stadtführung
TRANSP:OPAQUE
URL:https://rkk-therwil.ch/aktuelles/archiv/20-der-schwarze-tod-und-der-bas
 ler-daig-ausflug-mit-stadtfuehrung/2023-09-27-13-15?layout=vcal
END:VEVENT
END:VCALENDAR
