BEGIN:VCALENDAR
VERSION:2.0
PRODID:-//RKK Therwil//NONSGML kigkonsult.se iCalcreator 2.41.92//
CALSCALE:GREGORIAN
METHOD:PUBLISH
UID:34646162-6237-4436-a539-323861353636
X-WR-CALNAME:iCagenda
X-WR-CALDESC:Event Management Extension for Joomla!
X-WR-RELCALID:3E26604A-50F4-4449-8B3E-E4F4932D05B5
X-WR-TIMEZONE:Europe/Zurich
BEGIN:VTIMEZONE
TZID:Europe/Zurich
TZUNTIL:20260329T010000Z
BEGIN:STANDARD
TZNAME:CET
DTSTART:20231029T030000
TZOFFSETFROM:+0200
TZOFFSETTO:+0100
RDATE:20241027T030000
RDATE:20251026T030000
END:STANDARD
BEGIN:DAYLIGHT
TZNAME:CEST
DTSTART:20240331T020000
TZOFFSETFROM:+0100
TZOFFSETTO:+0200
RDATE:20250330T020000
END:DAYLIGHT
END:VTIMEZONE
BEGIN:VEVENT
UID:37663366-3332-4264-b933-363234363961
DTSTAMP:20260422T094333Z
CATEGORIES:RKK Therwil
CLASS:PUBLIC
DESCRIPTION;ALTREP="CID:<FFFF__=0ABBE548DFE235B58f9e8a93d@coffeebean.com>":
 Das Erzählcafé ist ein Ort\, an dem wir Geschichten aus dem Leben anderer 
 Menschen hören und wir unsere Erfahrungen teilen\, die Vielfalt persönlich
 er Lebensgeschichten wird sicht- und hörbar. Erzählcafés sind keine Diskus
 sionen. Es wird weder beurteilt\, noch kommentiert oder unterbrochen. Erzä
 hlen ist freiwillig\, Zuhören aber Pflicht. Die Erzählungen der Teilnehmen
 den stehen im Zentrum. Es soll ein Raum sein für neue Begegnungen\, gegens
 eitiges Zuhören und Erzählen und ein generationsübergreifendender und inte
 rkultureller Austausch auf Augenhöhe Wir geben Einblicke in unsere Welt. W
 ir sind ergebnisoffen.Nach der moderierten Erzählrunde bleibt Zeit für ein
 en gemütlichen Ausklang bei Kaffee oder Tee. Interessiert?\nWeitere Inform
 ation erhalten Sie bei\nCorinne André
DTSTART:20240919T150000Z
DTEND:20240919T170000Z
GEO:00;0
LOCATION:Pfarreiheim St. Stephan
ORGANIZER;CN=:mailto:corinne.andre@rkk-therwil.ch
SEQUENCE:1
SUMMARY:Erzählcafé 'Bilder'
TRANSP:OPAQUE
URL:https://rkk-therwil.ch/aktuelles/archiv/199-erzaehlcafe-bilder?layout=v
 cal
END:VEVENT
END:VCALENDAR
