BEGIN:VCALENDAR
VERSION:2.0
PRODID:-//RKK Therwil//NONSGML kigkonsult.se iCalcreator 2.41.92//
CALSCALE:GREGORIAN
METHOD:PUBLISH
UID:31393139-3332-4362-b765-346137643936
X-WR-CALNAME:iCagenda
X-WR-CALDESC:Event Management Extension for Joomla!
X-WR-RELCALID:3E26604A-50F4-4449-8B3E-E4F4932D05B5
X-WR-TIMEZONE:Europe/Zurich
BEGIN:VTIMEZONE
TZID:Europe/Zurich
TZUNTIL:20261025T010000Z
BEGIN:STANDARD
TZNAME:CET
DTSTART:20241027T030000
TZOFFSETFROM:+0200
TZOFFSETTO:+0100
RDATE:20251026T030000
END:STANDARD
BEGIN:DAYLIGHT
TZNAME:CEST
DTSTART:20240331T020000
TZOFFSETFROM:+0100
TZOFFSETTO:+0200
RDATE:20250330T020000
RDATE:20260329T020000
END:DAYLIGHT
END:VTIMEZONE
BEGIN:VEVENT
UID:66343637-3638-4330-b737-646633383134
DTSTAMP:20260421T203050Z
CATEGORIES:RKK Therwil
CLASS:PUBLIC
DESCRIPTION;ALTREP="CID:<FFFF__=0ABBE548DFE235B58f9e8a93d@coffeebean.com>":
 Trau dir – Trau dich – Firmung 2024\nWenn Gott uns vertraut und uns so vie
 l zutraut\, dann dürfen auch wir uns etwas trauen! Wir freuen uns mit den 
 9 jungen Erwachsenen\, die sich seit Mai auf diesen Weg gemacht haben und 
 von Domherrn Stefan Essig im Auftrag von Bischof Felix gefirmt werden. Der
  Gottesdienst\, zu dem auch alle Pfarreiangehörigen herzlich willkommen si
 nd\, findet am Samstag\, dem 9. November\, um 16 Uhr statt und wird vom Pr
 ojektchor musikalisch begleitet. Gefirmt werden Ciara Chevaleau\, Jan Doll
 inger\, Francesco Faro\, Salvatore Faro\, Marla Feller\, Améline Gruber\, 
 Björn Heeb\, Tino Kapulica und Noëlle Redondo.\nMirjam Reinprecht und Phil
 ippe Moosbrugger
DTSTART:20241109T150000Z
DTEND:20241109T170000Z
GEO:00;0
LOCATION:
ORGANIZER:
SEQUENCE:1
SUMMARY:Firmung mit Domherr Stefan Essig in der Kirche St. Stephan
TRANSP:OPAQUE
URL:https://rkk-therwil.ch/aktuelles/archiv/189-firmung-mit-domherr-stefan-
 essig-in-der-kirche-st-stephan?layout=vcal
END:VEVENT
END:VCALENDAR
