BEGIN:VCALENDAR
VERSION:2.0
PRODID:-//RKK Therwil//NONSGML kigkonsult.se iCalcreator 2.41.92//
CALSCALE:GREGORIAN
METHOD:PUBLISH
UID:36393365-6130-4438-b331-656432373631
X-WR-CALNAME:iCagenda
X-WR-CALDESC:Event Management Extension for Joomla!
X-WR-RELCALID:3E26604A-50F4-4449-8B3E-E4F4932D05B5
X-WR-TIMEZONE:Europe/Zurich
BEGIN:VTIMEZONE
TZID:Europe/Zurich
TZUNTIL:20261025T010000Z
BEGIN:STANDARD
TZNAME:CET
DTSTART:20241027T030000
TZOFFSETFROM:+0200
TZOFFSETTO:+0100
RDATE:20251026T030000
END:STANDARD
BEGIN:DAYLIGHT
TZNAME:CEST
DTSTART:20240331T020000
TZOFFSETFROM:+0100
TZOFFSETTO:+0200
RDATE:20250330T020000
RDATE:20260329T020000
END:DAYLIGHT
END:VTIMEZONE
BEGIN:VEVENT
UID:66626630-3235-4631-a131-393534303834
DTSTAMP:20260422T101031Z
CATEGORIES:RKK Therwil
CLASS:PUBLIC
DESCRIPTION;ALTREP="CID:<FFFF__=0ABBE548DFE235B58f9e8a93d@coffeebean.com>":
 «…und er ging ein Stück Weg mit ihnen.» - Ökumenischer Gottesdienst zur Er
 innerung an unsere Verstorbenen\nZwei Männer unterwegs. Ihr Weg ist staubi
 g und trocken. Sie lassen die Schultern hängen und schlurfen Schritt für S
 chritt. Zwei traurige Männer unterwegs. Kleopas und Lukas heissen sie und 
 sie sind unterwegs nach Emmaus.\nIm letzten Jahr haben viele Abschied nehm
 en müssen\, weil aus dem Kreis ihrer Lieben\, aus der Familie\, aus dem Be
 kannten- und Freundeskreis Menschen verstorben sind. Am Sonntag\, 3. Novem
 ber\, feiern wir um 14 Uhr in der katholischen Kirche St. Stephan das ökum
 enische Totengedenken und nennen die Namen der Verstorbenen des letzten Ja
 hres. Die römisch-katholische Gemeindeleiterin Elke Kreiselmeyer und Pfarr
 erin Cristina Policante von der reformierten Kirchgemeinde gestalten die F
 eier zum Totengedenken zusammen mit dem Männerchor Therwil und Barbara Mül
 ler an der Orgel. Die Musikgesellschaft Concordia spielt beim anschliessen
 den Segnen der Gräber auf dem Friedhof.\nGemeinsames Erinnern tut gut. Den
 n auch Kleopas und Lukas wurden auf ihrem Weg nach Emmaus begleitet: Plötz
 lich stiess der Auferstandene zu ihnen «und er ging ein Stück Weg mit ihne
 n.»\nElke Kreiselmeyer und Cristina Policante
DTSTART:20241103T130000Z
DTEND:20241103T143000Z
GEO:00;0
LOCATION:
ORGANIZER:
SEQUENCE:1
SUMMARY:Ökumenisches Totengedenken in der kath. Kirche St. Stephan
TRANSP:OPAQUE
URL:https://rkk-therwil.ch/aktuelles/archiv/188-oekumenisches-totengedenken
 -in-der-kath-kirche-st-stephan?layout=vcal
END:VEVENT
END:VCALENDAR
