BEGIN:VCALENDAR
VERSION:2.0
PRODID:-//RKK Therwil//NONSGML kigkonsult.se iCalcreator 2.41.92//
CALSCALE:GREGORIAN
METHOD:PUBLISH
UID:36343061-3161-4661-b639-623364386464
X-WR-CALNAME:iCagenda
X-WR-CALDESC:Event Management Extension for Joomla!
X-WR-RELCALID:3E26604A-50F4-4449-8B3E-E4F4932D05B5
X-WR-TIMEZONE:Europe/Zurich
BEGIN:VTIMEZONE
TZID:Europe/Zurich
TZUNTIL:20261025T010000Z
BEGIN:STANDARD
TZNAME:CET
DTSTART:20231029T030000
TZOFFSETFROM:+0200
TZOFFSETTO:+0100
RDATE:20241027T030000
RDATE:20251026T030000
END:STANDARD
BEGIN:DAYLIGHT
TZNAME:CEST
DTSTART:20240331T020000
TZOFFSETFROM:+0100
TZOFFSETTO:+0200
RDATE:20250330T020000
RDATE:20260329T020000
END:DAYLIGHT
END:VTIMEZONE
BEGIN:VEVENT
UID:34666262-6438-4562-b634-303833376564
DTSTAMP:20260422T032636Z
CATEGORIES:RKK Therwil
CLASS:PUBLIC
DESCRIPTION;ALTREP="CID:<FFFF__=0ABBE548DFE235B58f9e8a93d@coffeebean.com>":
 Wem von Ihnen kommt der Kurzdialog bekannt vor? Wenn man richtig sauer ist
 \, ist es nicht einfach\, den Ausweg zu finden! Sich versöhnen: das Thema 
 ist ein Dauerbrenner überall dort\, wo Menschen miteinander zu tun haben. 
 Die Schülerinnen und Schüler der 4. Primarklassen haben sich mit dem Thema
  auseinandergesetzt und einiges dafür vorbereitet. Sie und ihre Familien\,
  aber auch alle anderen Interessierten sind am Samstag\, 26. Oktober um 17
  Uhr in die Dorfkirche Biel-Benken und am Sonntag\, 27. Oktober um 10 Uhr 
 in die katholischen Kirche St. Stephan in Therwil eingeladen. Der Gottesdi
 enst wird als katholische Kommunionfeier gestaltet und ist offen für Angeh
 örige aller Konfessionen. Für das Vorbereitungsteam:\nLea Meier\, Luca Pol
 icante-Roth und Philippe Moosbrugger
DTSTART:20241027T090000Z
DTEND:20241027T101500Z
GEO:00;0
LOCATION:
ORGANIZER:
SEQUENCE:1
SUMMARY:„Du hast angefangen! – Nein\, Du!“ Ökumenischer Schüler:innen-Gotte
 sdienst zum Thema Versöhnung
TRANSP:OPAQUE
URL:https://rkk-therwil.ch/aktuelles/archiv/186-oekum-schuelergottesdienst-
 versoehnung-4-klassen-in-der-kirche-st-stephan?layout=vcal
END:VEVENT
END:VCALENDAR
