BEGIN:VCALENDAR
VERSION:2.0
PRODID:-//RKK Therwil//NONSGML kigkonsult.se iCalcreator 2.41.92//
CALSCALE:GREGORIAN
METHOD:PUBLISH
UID:38396164-6362-4237-b236-663065376234
X-WR-CALNAME:iCagenda
X-WR-CALDESC:Event Management Extension for Joomla!
X-WR-RELCALID:3E26604A-50F4-4449-8B3E-E4F4932D05B5
X-WR-TIMEZONE:Europe/Zurich
BEGIN:VTIMEZONE
TZID:Europe/Zurich
TZUNTIL:20261025T010000Z
BEGIN:STANDARD
TZNAME:CET
DTSTART:20231029T030000
TZOFFSETFROM:+0200
TZOFFSETTO:+0100
RDATE:20241027T030000
RDATE:20251026T030000
END:STANDARD
BEGIN:DAYLIGHT
TZNAME:CEST
DTSTART:20240331T020000
TZOFFSETFROM:+0100
TZOFFSETTO:+0200
RDATE:20250330T020000
RDATE:20260329T020000
END:DAYLIGHT
END:VTIMEZONE
BEGIN:VEVENT
UID:38616232-3963-4963-b066-333630646236
DTSTAMP:20260422T013312Z
CATEGORIES:RKK Therwil
CLASS:PUBLIC
DESCRIPTION:
DTSTART:20241020T080000Z
DTEND:20241020T091500Z
GEO:00;0
LOCATION:
ORGANIZER:
SEQUENCE:1
SUMMARY:Gottesdienst in der Kirche St. Stephan mit Eucharistiefeier
TRANSP:OPAQUE
URL:https://rkk-therwil.ch/aktuelles/archiv/185-gottesdienst-in-der-kirche-
 st-stephan-mit-eucharistiefeier-6?layout=vcal
END:VEVENT
END:VCALENDAR
