BEGIN:VCALENDAR
VERSION:2.0
PRODID:-//RKK Therwil//NONSGML kigkonsult.se iCalcreator 2.41.92//
CALSCALE:GREGORIAN
METHOD:PUBLISH
UID:64396331-3966-4233-b638-393530643164
X-WR-CALNAME:iCagenda
X-WR-CALDESC:Event Management Extension for Joomla!
X-WR-RELCALID:3E26604A-50F4-4449-8B3E-E4F4932D05B5
X-WR-TIMEZONE:Europe/Zurich
BEGIN:VTIMEZONE
TZID:Europe/Zurich
TZUNTIL:20261025T010000Z
BEGIN:STANDARD
TZNAME:CET
DTSTART:20231029T030000
TZOFFSETFROM:+0200
TZOFFSETTO:+0100
RDATE:20241027T030000
RDATE:20251026T030000
END:STANDARD
BEGIN:DAYLIGHT
TZNAME:CEST
DTSTART:20240331T020000
TZOFFSETFROM:+0100
TZOFFSETTO:+0200
RDATE:20250330T020000
RDATE:20260329T020000
END:DAYLIGHT
END:VTIMEZONE
BEGIN:VEVENT
UID:37616630-6230-4131-b334-353862636338
DTSTAMP:20260422T013313Z
CATEGORIES:RKK Therwil
CLASS:PUBLIC
DESCRIPTION:
DTSTART:20240929T080000Z
DTEND:20240929T081500Z
GEO:00;0
LOCATION:
ORGANIZER:
SEQUENCE:1
SUMMARY:Gottesdienst in der Kirche St. Stephan mit Eucharistiefeier
TRANSP:OPAQUE
URL:https://rkk-therwil.ch/aktuelles/archiv/182-gottesdienst-in-der-kirche-
 st-stephan-mit-eucharistiefeier-5?layout=vcal
END:VEVENT
END:VCALENDAR
