BEGIN:VCALENDAR
VERSION:2.0
PRODID:-//RKK Therwil//NONSGML kigkonsult.se iCalcreator 2.41.92//
CALSCALE:GREGORIAN
METHOD:PUBLISH
UID:61323330-6439-4161-a532-326565353765
X-WR-CALNAME:iCagenda
X-WR-CALDESC:Event Management Extension for Joomla!
X-WR-RELCALID:3E26604A-50F4-4449-8B3E-E4F4932D05B5
X-WR-TIMEZONE:Europe/Zurich
BEGIN:VTIMEZONE
TZID:Europe/Zurich
TZUNTIL:20260329T010000Z
BEGIN:STANDARD
TZNAME:CET
DTSTART:20231029T030000
TZOFFSETFROM:+0200
TZOFFSETTO:+0100
RDATE:20241027T030000
RDATE:20251026T030000
END:STANDARD
BEGIN:DAYLIGHT
TZNAME:CEST
DTSTART:20240331T020000
TZOFFSETFROM:+0100
TZOFFSETTO:+0200
RDATE:20250330T020000
END:DAYLIGHT
END:VTIMEZONE
BEGIN:VEVENT
UID:33396138-3964-4231-b934-316535366633
DTSTAMP:20260421T221711Z
CATEGORIES:RKK Therwil
CLASS:PUBLIC
DESCRIPTION;ALTREP="CID:<FFFF__=0ABBE548DFE235B58f9e8a93d@coffeebean.com>":
 In unserer anglikanischen Schwesterkirche gibt es die Tradition des «Eveni
 ng Prayer»\, ein gemeinsames Abendlob in den Kirchen. Die gesungene Form w
 ird «Evensong» genannt und als Choral Evensong werden grosse Teile davon v
 om Chor gestaltet. Die Feier ähnelt der Vesper in unserer römisch-katholis
 chen Tradition. Für dieses Abendlob wurden wunderbare Lieder komponiert. Z
 u einem solchen musikalischen Abendgebet laden wir Sie erstmals am Sonntag
 \, den 22. September in die Stephanskirche ein. Der 22. September ist der 
 Tag\, an dem Tag und Nacht gleich lang sind. Danach werden die Nächte wied
 er länger bis zur Wintersonnwende im Dezember. Ab 19.50h stimmt die Orgel 
 Sie in der Stephanskirche in Therwil musikalisch auf die Feier ein\, die u
 m 20 Uhr mit dem Einzug des Kirchenchors St. Stephan beginnt. Wir laden Si
 e ein zu einer Stunde bei Kerzenlicht\, in der sich Tag und Nacht\, Tun un
 d Empfangen\, Klang und Stille begegnen.\nRalph Stelzenmüller und Elke Kre
 iselmeyer
DTSTART:20240922T175000Z
DTEND:20240922T193000Z
GEO:00;0
LOCATION:
ORGANIZER:
SEQUENCE:1
SUMMARY:Choral Evensong zur Tag- und Nachtglei-che in der Stephanskirche Th
 erwil
TRANSP:OPAQUE
URL:https://rkk-therwil.ch/aktuelles/archiv/171-choral-evensong-zur-tag-und
 -nachtglei-che-in-der-stephanskirche-therwil?layout=vcal
END:VEVENT
END:VCALENDAR
