BEGIN:VCALENDAR
VERSION:2.0
PRODID:-//RKK Therwil//NONSGML kigkonsult.se iCalcreator 2.41.92//
CALSCALE:GREGORIAN
METHOD:PUBLISH
UID:39303366-6432-4434-b031-393262613337
X-WR-CALNAME:iCagenda
X-WR-CALDESC:Event Management Extension for Joomla!
X-WR-RELCALID:3E26604A-50F4-4449-8B3E-E4F4932D05B5
X-WR-TIMEZONE:Europe/Zurich
BEGIN:VTIMEZONE
TZID:Europe/Zurich
TZUNTIL:20260329T010000Z
BEGIN:STANDARD
TZNAME:CET
DTSTART:20231029T030000
TZOFFSETFROM:+0200
TZOFFSETTO:+0100
RDATE:20241027T030000
RDATE:20251026T030000
END:STANDARD
BEGIN:DAYLIGHT
TZNAME:CEST
DTSTART:20240331T020000
TZOFFSETFROM:+0100
TZOFFSETTO:+0200
RDATE:20250330T020000
END:DAYLIGHT
END:VTIMEZONE
BEGIN:VEVENT
UID:63353338-3864-4034-b835-303938326431
DTSTAMP:20260425T160755Z
CATEGORIES:RKK Therwil
CLASS:PUBLIC
DESCRIPTION:
DTSTART:20240918T071500Z
DTEND:20240918T080000Z
GEO:00;0
LOCATION:
ORGANIZER:
SEQUENCE:1
SUMMARY:Gottesdienst in der Kirche St. Stephan
TRANSP:OPAQUE
URL:https://rkk-therwil.ch/aktuelles/archiv/167-gottesdienst-in-der-kirche-
 st-stephan-16/2024-09-18-09-15?layout=vcal
END:VEVENT
END:VCALENDAR
