BEGIN:VCALENDAR
VERSION:2.0
PRODID:-//RKK Therwil//NONSGML kigkonsult.se iCalcreator 2.41.92//
CALSCALE:GREGORIAN
METHOD:PUBLISH
UID:63366432-3061-4532-a465-653539623837
X-WR-CALNAME:iCagenda
X-WR-CALDESC:Event Management Extension for Joomla!
X-WR-RELCALID:3E26604A-50F4-4449-8B3E-E4F4932D05B5
X-WR-TIMEZONE:Europe/Zurich
BEGIN:VTIMEZONE
TZID:Europe/Zurich
TZUNTIL:20261025T010000Z
BEGIN:STANDARD
TZNAME:CET
DTSTART:20231029T030000
TZOFFSETFROM:+0200
TZOFFSETTO:+0100
RDATE:20241027T030000
RDATE:20251026T030000
END:STANDARD
BEGIN:DAYLIGHT
TZNAME:CEST
DTSTART:20240331T020000
TZOFFSETFROM:+0100
TZOFFSETTO:+0200
RDATE:20250330T020000
RDATE:20260329T020000
END:DAYLIGHT
END:VTIMEZONE
BEGIN:VEVENT
UID:30386561-3666-4064-a430-343138313331
DTSTAMP:20260424T083433Z
CATEGORIES:RKK Therwil
CLASS:PUBLIC
DESCRIPTION;ALTREP="CID:<FFFF__=0ABBE548DFE235B58f9e8a93d@coffeebean.com>":
 „Du hast angefangen! – Nein\, Du!“ \nWem von Ihnen kommt der Kurzdialog be
 kannt vor? Wenn man richtig sauer ist\, ist es nicht einfach\, den Ausweg 
 zu finden! Sich versöhnen: das Thema ist ein Dauerbrenner überall dort\, w
 o Menschen miteinander zu tun haben. Die Schülerinnen und Schüler der 4. P
 rimarklassen haben sich mit dem Thema auseinandergesetzt und einiges dafür
  vorbereitet. Sie und ihre Familien\, aber auch alle anderen Interessierte
 n sind am Samstag\, 26. Oktober um 17 Uhr in die Dorfkirche Biel-Benken un
 d am Sonntag\, 27. Oktober um 10 Uhr in die katholischen Kirche St. Stepha
 n in Therwil eingeladen. Der Gottesdienst wird als katholische Kommunionfe
 ier gestaltet und ist offen für Angehörige aller Konfessionen. Für das Vor
 bereitungsteam:\nLea Meier\, Luca Policante-Roth und Philippe Moosbrugger
DTSTART:20241026T150000Z
DTEND:20241026T161500Z
GEO:00;0
LOCATION:
ORGANIZER:
SEQUENCE:1
SUMMARY:Ökum. Schülergottesdienst 'Versöhnung' 4. Klassen in der Dorfkirche
  Biel-Benken
TRANSP:OPAQUE
URL:https://rkk-therwil.ch/aktuelles/archiv/163-vorabendgottesdienst-in-der
 -dorfkirche-biel-benken-2?layout=vcal
END:VEVENT
END:VCALENDAR
