BEGIN:VCALENDAR
VERSION:2.0
PRODID:-//RKK Therwil//NONSGML kigkonsult.se iCalcreator 2.41.92//
CALSCALE:GREGORIAN
METHOD:PUBLISH
UID:61386562-3165-4536-b661-333931303439
X-WR-CALNAME:iCagenda
X-WR-CALDESC:Event Management Extension for Joomla!
X-WR-RELCALID:3E26604A-50F4-4449-8B3E-E4F4932D05B5
X-WR-TIMEZONE:Europe/Zurich
BEGIN:VTIMEZONE
TZID:Europe/Zurich
TZUNTIL:20260329T010000Z
BEGIN:STANDARD
TZNAME:CET
DTSTART:20231029T030000
TZOFFSETFROM:+0200
TZOFFSETTO:+0100
RDATE:20241027T030000
RDATE:20251026T030000
END:STANDARD
BEGIN:DAYLIGHT
TZNAME:CEST
DTSTART:20240331T020000
TZOFFSETFROM:+0100
TZOFFSETTO:+0200
RDATE:20250330T020000
END:DAYLIGHT
END:VTIMEZONE
BEGIN:VEVENT
UID:39653535-3963-4364-a562-346265636661
DTSTAMP:20260421T202104Z
CATEGORIES:RKK Therwil
CLASS:PUBLIC
DESCRIPTION;ALTREP="CID:<FFFF__=0ABBE548DFE235B58f9e8a93d@coffeebean.com>":
 \n\n\n\n\nEin feines und ausgewogenes Zmittag gibt’s um 12:15 Uhr im Pfarr
 eiheim in Therwil für CHF 7.-\, Kinder bis zur ersten Klasse CHF 5.- .Lass
 en Sie sich das nicht entgehen.\nEn Guete!\n\n\n\n
DTSTART:20240829T101500Z
DTEND:20240829T111500Z
GEO:00;0
LOCATION:
ORGANIZER:
SEQUENCE:1
SUMMARY:Donnschtigstisch
TRANSP:OPAQUE
URL:https://rkk-therwil.ch/aktuelles/archiv/158-donnschtigstisch-6/2024-08-
 29-12-15?layout=vcal
END:VEVENT
END:VCALENDAR
