BEGIN:VCALENDAR
VERSION:2.0
PRODID:-//RKK Therwil//NONSGML kigkonsult.se iCalcreator 2.41.92//
CALSCALE:GREGORIAN
METHOD:PUBLISH
UID:63303534-3864-4166-a636-376132666130
X-WR-CALNAME:iCagenda
X-WR-CALDESC:Event Management Extension for Joomla!
X-WR-RELCALID:3E26604A-50F4-4449-8B3E-E4F4932D05B5
X-WR-TIMEZONE:Europe/Zurich
BEGIN:VTIMEZONE
TZID:Europe/Zurich
TZUNTIL:20250330T010000Z
BEGIN:STANDARD
TZNAME:CET
DTSTART:20221030T030000
TZOFFSETFROM:+0200
TZOFFSETTO:+0100
RDATE:20231029T030000
RDATE:20241027T030000
END:STANDARD
BEGIN:DAYLIGHT
TZNAME:CEST
DTSTART:20230326T020000
TZOFFSETFROM:+0100
TZOFFSETTO:+0200
RDATE:20240331T020000
END:DAYLIGHT
END:VTIMEZONE
BEGIN:VEVENT
UID:34353966-3062-4661-b436-396531323031
DTSTAMP:20260421T221625Z
CATEGORIES:RKK Therwil
CLASS:PUBLIC
DESCRIPTION;ALTREP="CID:<FFFF__=0ABBE548DFE235B58f9e8a93d@coffeebean.com>":
 20. Juli: Wanderung von Inzlingen/D über Chrischona nach Bettingen\nAbfahr
 t: Therwil Zentrum 9.05\nUmsteigen beim Theater und in Riehen/Weilstrasse 
 in Bus nach Inzlingen. Guter Wanderweg mit Steigung gegen die Chrischona (
 knapp 1 ½ h)\, Besuch der kleinen Kirche\, und dann abwärts Richtung Betti
 ngen. Ein kurzes Wegstück ist schlecht unterhalten (Wanderstöcke von Vorte
 il) und danach folgen einige Stufen (ca. ¾ h).\nMittagessen gegen 13.00 Uh
 r im Baslerhof in Bettingen.\nWer sich den „Abstieg“ nicht zumuten möchte\
 , kann bei der (ehemaligen) Chrischona-Klinik den Bus bis Bettingen Dorf n
 ehmen.\nU-Abo bis Inzlingen gültig.\nGA leider nicht: Zusatz von Riehen na
 ch Inzlingen im Bus lösen (€ 2.70)\nTageskarte: TriRegio mini CHF 10.50 (i
 m Kiosk Therwil Zentrum erhältlich)\nWanderleitung und für Fragen:\nEsther
  Mendoza 061 721 38 76
DTSTART:20230720T070500Z
DTEND:20230720T070500Z
GEO:00;0
LOCATION:
ORGANIZER:
SEQUENCE:1
SUMMARY:Wandergruppe „fit und zwäg“
TRANSP:OPAQUE
URL:https://rkk-therwil.ch/aktuelles/archiv/12-wandergruppe-fit-und-zwaeg/2
 023-07-20-09-05?layout=vcal
END:VEVENT
END:VCALENDAR
