BEGIN:VCALENDAR
VERSION:2.0
PRODID:-//RKK Therwil//NONSGML kigkonsult.se iCalcreator 2.41.92//
CALSCALE:GREGORIAN
METHOD:PUBLISH
UID:38306334-6230-4234-a332-623139636662
X-WR-CALNAME:iCagenda
X-WR-CALDESC:Event Management Extension for Joomla!
X-WR-RELCALID:3E26604A-50F4-4449-8B3E-E4F4932D05B5
X-WR-TIMEZONE:Europe/Zurich
BEGIN:VTIMEZONE
TZID:Europe/Zurich
TZUNTIL:20250330T010000Z
BEGIN:STANDARD
TZNAME:CET
DTSTART:20221030T030000
TZOFFSETFROM:+0200
TZOFFSETTO:+0100
RDATE:20231029T030000
RDATE:20241027T030000
END:STANDARD
BEGIN:DAYLIGHT
TZNAME:CEST
DTSTART:20230326T020000
TZOFFSETFROM:+0100
TZOFFSETTO:+0200
RDATE:20240331T020000
END:DAYLIGHT
END:VTIMEZONE
BEGIN:VEVENT
UID:62386662-6136-4434-a633-353431333837
DTSTAMP:20260422T142243Z
CATEGORIES:RKK Therwil
CLASS:PUBLIC
DESCRIPTION;ALTREP="CID:<FFFF__=0ABBE548DFE235B58f9e8a93d@coffeebean.com>":
 Duftende Kräuter\, blühendes Leben\, Segen Gottes - bringen Sie ihre Küche
 n-\, Tee- und Heilkräuter zum Gottesdienst mit in die Kirche\, um sie vor 
 den Altar zu legen und am Ende gesegnet wieder mitheimzunehmen! Im Hochsom
 mer ist eine gute Zeit\, um Kräuter auf dem Balkon oder im Garten zu ernte
 n und dann trocknen zu lassen. Sie können die Kräuter lose in einem Körbch
 en mitbringen\, oder zu einem schönen Sträusschen gebunden. Wer Zahlenmagi
 e mag\, kann 7 (Schöpfungstage)\, 9 (dreimal drei für die Heilige Dreifalt
 igkeit)\, 12 (Jünger/Apostel oder Stämme Israels)\,14 (Nothelfer)\, 24 (2x
 12)\, 72 (6x12) oder gar 99 verschiedene Kräuter zu einem Strauss binden.
 \nWir feiern diesen Gottesdienst zum Hochfest von Maria Himmelfahrt am Son
 ntag\, den 13. August um 10 Uhr.\nPhilippe Moosbrugger
DTSTART:20230813T080000Z
DTEND:20230813T080000Z
GEO:00;0
LOCATION:
ORGANIZER:
SEQUENCE:1
SUMMARY:Maria Himmelfahrt mit Kräutersegnung
TRANSP:OPAQUE
URL:https://rkk-therwil.ch/aktuelles/archiv/11-maria-himmelfahrt-mit-kraeut
 ersegnung/2023-08-13-10-00?layout=vcal
END:VEVENT
END:VCALENDAR
