BEGIN:VCALENDAR
VERSION:2.0
PRODID:-//RKK Therwil//NONSGML kigkonsult.se iCalcreator 2.41.92//
CALSCALE:GREGORIAN
METHOD:PUBLISH
UID:37616561-3231-4237-b765-643766613833
X-WR-CALNAME:iCagenda
X-WR-CALDESC:Event Management Extension for Joomla!
X-WR-RELCALID:3E26604A-50F4-4449-8B3E-E4F4932D05B5
X-WR-TIMEZONE:Europe/Zurich
BEGIN:VTIMEZONE
TZID:Europe/Zurich
TZUNTIL:20250330T010000Z
BEGIN:STANDARD
TZNAME:CET
DTSTART:20221030T030000
TZOFFSETFROM:+0200
TZOFFSETTO:+0100
RDATE:20231029T030000
RDATE:20241027T030000
END:STANDARD
BEGIN:DAYLIGHT
TZNAME:CEST
DTSTART:20230326T020000
TZOFFSETFROM:+0100
TZOFFSETTO:+0200
RDATE:20240331T020000
END:DAYLIGHT
END:VTIMEZONE
BEGIN:VEVENT
UID:32616235-3139-4330-b937-656265636538
DTSTAMP:20260422T065153Z
CATEGORIES:RKK Therwil
CLASS:PUBLIC
DESCRIPTION;ALTREP="CID:<FFFF__=0ABBE548DFE235B58f9e8a93d@coffeebean.com>":
 Am Samstag\, den 19. August um 17 Uhr feiern wir einen Feldgottesdienst be
 im Schlössli in Biel-Benken. Musikalisch wird uns der Kirchenchor begleite
 n. Im Anschluss wird grilliert: Bratwurst\, Brot\, Senf und Getränke stehe
 n zur Verfügung. Spenden für das Kuchenbuffet sind sehr erwünscht. Wir fre
 uen uns heute schon auf diesen traditionellen Auftakt in Biel-Benken\, auf
  ein gesundes Wiedersehen nach der Sommerpause und laden die Therwiler Pfa
 rreiangehörigen herzlich zum Besuch des Nachbardorfs ein. Bei schlechtem W
 etter feiern wir im Schlössli.\nJutta Achhammer
DTSTART:20230819T150000Z
DTEND:20230819T150000Z
GEO:00;0
LOCATION:
ORGANIZER:
SEQUENCE:1
SUMMARY:Schlössli-Picknick in Biel-Benken
TRANSP:OPAQUE
URL:https://rkk-therwil.ch/aktuelles/archiv/10-schloessli-picknick-in-biel-
 benken/2023-08-19-17-00?layout=vcal
END:VEVENT
END:VCALENDAR
