BEGIN:VCALENDAR
VERSION:2.0
PRODID:-//RKK Therwil//NONSGML kigkonsult.se iCalcreator 2.41.92//
CALSCALE:GREGORIAN
METHOD:PUBLISH
UID:38353462-6135-4531-b031-323538653136
X-WR-CALNAME:iCagenda
X-WR-CALDESC:Event Management Extension for Joomla!
X-WR-RELCALID:3E26604A-50F4-4449-8B3E-E4F4932D05B5
X-WR-TIMEZONE:Europe/Zurich
BEGIN:VTIMEZONE
TZID:Europe/Zurich
TZUNTIL:20280326T010000Z
BEGIN:STANDARD
TZNAME:CET
DTSTART:20251026T030000
TZOFFSETFROM:+0200
TZOFFSETTO:+0100
RDATE:20261025T030000
RDATE:20271031T030000
END:STANDARD
BEGIN:DAYLIGHT
TZNAME:CEST
DTSTART:20260329T020000
TZOFFSETFROM:+0100
TZOFFSETTO:+0200
RDATE:20270328T020000
END:DAYLIGHT
END:VTIMEZONE
BEGIN:VEVENT
UID:36663563-3135-4332-b935-366635366632
DTSTAMP:20260420T055107Z
CATEGORIES:RKK Therwil
CLASS:PUBLIC
DESCRIPTION;ALTREP="CID:<FFFF__=0ABBE548DFE235B58f9e8a93d@coffeebean.com>":
 Auch dieses Jahr findet wieder unser jährliches Lagerzmorge\, am 10. Mai s
 tatt. Kommt vorbei und geniesst den feinen Brunch im Pfarreiheim in Therwi
 l. Wir freuen uns\, euch alle begrüssen zu dürfen und mit euch die SOLA-Vo
 rfreude zu leben und zu geniessen!\nDer Brunch findet von 09:00 bis 13:00&
 nbsp\;Uhr statt\, das reichhaltige Buffet lädt zum Verweilen und Geniessen
  ein!\nPreise: Erwachsene 25.-\, Passivmitglieder und JublanerInnen 20.-\,
  Kinder 15.-\, Familie 75.-\nBis bald\, euer Leitungsteam vom Blauring und
  Jungwacht Therwil
DTSTART:20260510T070000Z
DTEND:20260510T110000Z
GEO:00;0
LOCATION:
ORGANIZER:
SEQUENCE:1
SUMMARY:Lager-Zmorge von Jungwacht & Blauring
TRANSP:OPAQUE
URL:https://rkk-therwil.ch/aktuelles/agenda/469-lager-zmorge-von-jungwacht-
 blauring-2
END:VEVENT
END:VCALENDAR
