BEGIN:VCALENDAR
VERSION:2.0
PRODID:-//RKK Therwil//NONSGML kigkonsult.se iCalcreator 2.41.92//
CALSCALE:GREGORIAN
METHOD:PUBLISH
UID:31366364-3438-4234-a361-303334646463
X-WR-CALNAME:iCagenda
X-WR-CALDESC:Event Management Extension for Joomla!
X-WR-RELCALID:3E26604A-50F4-4449-8B3E-E4F4932D05B5
X-WR-TIMEZONE:Europe/Zurich
BEGIN:VTIMEZONE
TZID:Europe/Zurich
TZUNTIL:20280326T010000Z
BEGIN:STANDARD
TZNAME:CET
DTSTART:20251026T030000
TZOFFSETFROM:+0200
TZOFFSETTO:+0100
RDATE:20261025T030000
RDATE:20271031T030000
END:STANDARD
BEGIN:DAYLIGHT
TZNAME:CEST
DTSTART:20260329T020000
TZOFFSETFROM:+0100
TZOFFSETTO:+0200
RDATE:20270328T020000
END:DAYLIGHT
END:VTIMEZONE
BEGIN:VEVENT
UID:65323735-6265-4633-b435-633637636565
DTSTAMP:20260420T055219Z
CATEGORIES:RKK Therwil
CLASS:PUBLIC
DESCRIPTION;ALTREP="CID:<FFFF__=0ABBE548DFE235B58f9e8a93d@coffeebean.com>":
 Ökumenischer Kirchentausch\nAm Sonntag\, 10. Mai\, feiert die reformierte 
 Kirchgemeinde Therwil die Konfirmation aus Platzgründen wieder in der kath
 olischen Kirche. Wir feiern unseren Sonntagsgottesdienst mit Kommunionfeie
 r um 9.30 Uhr dann in der reformierten Kirche.\nDas Seelsorgeteam
DTSTART:20260510T073000Z
DTEND:20260510T083000Z
GEO:00;0
LOCATION:
ORGANIZER:
SEQUENCE:1
SUMMARY:Gottesdienst mit Kommunionfeier in der reformierten Kirche
TRANSP:OPAQUE
URL:https://rkk-therwil.ch/aktuelles/agenda/468-gottesdienst-mit-kommunionf
 eier-in-der-reformierten-kirche
END:VEVENT
END:VCALENDAR
