BEGIN:VCALENDAR
VERSION:2.0
PRODID:-//RKK Therwil//NONSGML kigkonsult.se iCalcreator 2.41.92//
CALSCALE:GREGORIAN
METHOD:PUBLISH
UID:34343231-3330-4633-b638-386332376231
X-WR-CALNAME:iCagenda
X-WR-CALDESC:Event Management Extension for Joomla!
X-WR-RELCALID:3E26604A-50F4-4449-8B3E-E4F4932D05B5
X-WR-TIMEZONE:Europe/Zurich
BEGIN:VTIMEZONE
TZID:Europe/Zurich
TZUNTIL:20280326T010000Z
BEGIN:STANDARD
TZNAME:CET
DTSTART:20251026T030000
TZOFFSETFROM:+0200
TZOFFSETTO:+0100
RDATE:20261025T030000
RDATE:20271031T030000
END:STANDARD
BEGIN:DAYLIGHT
TZNAME:CEST
DTSTART:20260329T020000
TZOFFSETFROM:+0100
TZOFFSETTO:+0200
RDATE:20270328T020000
END:DAYLIGHT
END:VTIMEZONE
BEGIN:VEVENT
UID:33356362-3661-4732-b061-616332663561
DTSTAMP:20260420T055108Z
CATEGORIES:RKK Therwil
CLASS:PUBLIC
DESCRIPTION:
DTSTART:20260503T073000Z
DTEND:20260503T083000Z
GEO:00;0
LOCATION:
ORGANIZER:
SEQUENCE:1
SUMMARY:Gottesdienst in der Kirche St. Stephan mit Kommunionfeier
TRANSP:OPAQUE
URL:https://rkk-therwil.ch/aktuelles/agenda/467-gottesdienst-in-der-kirche-
 st-stephan-mit-kommunionfeier-30
END:VEVENT
END:VCALENDAR
